BEGIN:VCALENDAR
VERSION:2.0
PRODID:-//MIMA | Maritime Institute of Malaysia - ECPv6.15.13.1//NONSGML v1.0//EN
CALSCALE:GREGORIAN
METHOD:PUBLISH
X-WR-CALNAME:MIMA | Maritime Institute of Malaysia
X-ORIGINAL-URL:https://www.mima.gov.my
X-WR-CALDESC:Events for MIMA | Maritime Institute of Malaysia
REFRESH-INTERVAL;VALUE=DURATION:PT1H
X-Robots-Tag:noindex
X-PUBLISHED-TTL:PT1H
BEGIN:VTIMEZONE
TZID:Asia/Kuala_Lumpur
BEGIN:STANDARD
TZOFFSETFROM:+0800
TZOFFSETTO:+0800
TZNAME:+08
DTSTART:20200101T000000
END:STANDARD
END:VTIMEZONE
BEGIN:VEVENT
DTSTART;VALUE=DATE:20210614
DTEND;VALUE=DATE:20210619
DTSTAMP:20260421T173017
CREATED:20210319T014837Z
LAST-MODIFIED:20210503T033314Z
UID:4212-1623628800-1624060799@www.mima.gov.my
SUMMARY:Virtual Training Programme on Coastal and Marine Spatial Planning (CMSP) For Indian Ocean Region
DESCRIPTION:
URL:https://www.mima.gov.my/event/virtual-training-programme-on-coastal-and-marine-spatial-planning-cmsp-for-asean-region-and-the-indian-ocean-region
CATEGORIES:Online Events
ORGANIZER;CN="Maritime Institute of Malaysia (MIMA)":MAILTO:mima@mima.gov.my
END:VEVENT
END:VCALENDAR