BEGIN:VCALENDAR
VERSION:2.0
PRODID:-//MIMA | Maritime Institute of Malaysia - ECPv6.15.13.1//NONSGML v1.0//EN
CALSCALE:GREGORIAN
METHOD:PUBLISH
X-WR-CALNAME:MIMA | Maritime Institute of Malaysia
X-ORIGINAL-URL:https://www.mima.gov.my
X-WR-CALDESC:Events for MIMA | Maritime Institute of Malaysia
REFRESH-INTERVAL;VALUE=DURATION:PT1H
X-Robots-Tag:noindex
X-PUBLISHED-TTL:PT1H
BEGIN:VTIMEZONE
TZID:Asia/Kuala_Lumpur
BEGIN:STANDARD
TZOFFSETFROM:+0800
TZOFFSETTO:+0800
TZNAME:+08
DTSTART:20200101T000000
END:STANDARD
END:VTIMEZONE
BEGIN:VEVENT
DTSTART;TZID=Asia/Kuala_Lumpur:20211021T083000
DTEND;TZID=Asia/Kuala_Lumpur:20211021T170000
DTSTAMP:20260422T023248
CREATED:20211020T041454Z
LAST-MODIFIED:20211020T042203Z
UID:6671-1634805000-1634835600@www.mima.gov.my
SUMMARY:Stakeholders Engagement: Reassessment on Issues and Prospects of Bunkering Industry in Malaysia Year 2021
DESCRIPTION:
URL:https://www.mima.gov.my/event/stakeholders-engagement-reassessment-on-issues-and-prospects-of-bunkering-industry-in-malaysia-year-2021
ORGANIZER;CN="Maritime Institute of Malaysia (MIMA)":MAILTO:mima@mima.gov.my
END:VEVENT
END:VCALENDAR