BEGIN:VCALENDAR
VERSION:2.0
PRODID:-//MIMA | Maritime Institute of Malaysia - ECPv6.15.13.1//NONSGML v1.0//EN
CALSCALE:GREGORIAN
METHOD:PUBLISH
X-WR-CALNAME:MIMA | Maritime Institute of Malaysia
X-ORIGINAL-URL:https://www.mima.gov.my
X-WR-CALDESC:Events for MIMA | Maritime Institute of Malaysia
REFRESH-INTERVAL;VALUE=DURATION:PT1H
X-Robots-Tag:noindex
X-PUBLISHED-TTL:PT1H
BEGIN:VTIMEZONE
TZID:Asia/Kuala_Lumpur
BEGIN:STANDARD
TZOFFSETFROM:+0800
TZOFFSETTO:+0800
TZNAME:+08
DTSTART:20200101T000000
END:STANDARD
END:VTIMEZONE
BEGIN:VEVENT
DTSTART;VALUE=DATE:20210628
DTEND;VALUE=DATE:20210703
DTSTAMP:20260417T085327
CREATED:20210419T002135Z
LAST-MODIFIED:20210503T033218Z
UID:4595-1624838400-1625270399@www.mima.gov.my
SUMMARY:Fostering Maritime Industry Operation and Management Through Digitisation Post-COVID-19
DESCRIPTION:
URL:https://www.mima.gov.my/event/fostering-maritime-industry-operation-and-management-through-digitisation-post-covid-19
CATEGORIES:Online Events
ATTACH;FMTTYPE=image/jpeg:https://www.mima.gov.my/wp-content/uploads/2021/04/mtcp-fostering-maritime-industry.jpg
ORGANIZER;CN="Maritime Institute of Malaysia (MIMA)":MAILTO:mima@mima.gov.my
END:VEVENT
END:VCALENDAR